BEGIN:VCALENDAR
VERSION:2.0
PRODID:-//Site officiel de la commune de Tillac (32) Gers - ECPv6.15.20//NONSGML v1.0//EN
CALSCALE:GREGORIAN
METHOD:PUBLISH
X-ORIGINAL-URL:https://tillac.fr
X-WR-CALDESC:Évènements pour Site officiel de la commune de Tillac (32) Gers
REFRESH-INTERVAL;VALUE=DURATION:PT1H
X-Robots-Tag:noindex
X-PUBLISHED-TTL:PT1H
BEGIN:VTIMEZONE
TZID:Europe/Paris
BEGIN:DAYLIGHT
TZOFFSETFROM:+0100
TZOFFSETTO:+0200
TZNAME:CEST
DTSTART:20230326T010000
END:DAYLIGHT
BEGIN:STANDARD
TZOFFSETFROM:+0200
TZOFFSETTO:+0100
TZNAME:CET
DTSTART:20231029T010000
END:STANDARD
BEGIN:DAYLIGHT
TZOFFSETFROM:+0100
TZOFFSETTO:+0200
TZNAME:CEST
DTSTART:20240331T010000
END:DAYLIGHT
BEGIN:STANDARD
TZOFFSETFROM:+0200
TZOFFSETTO:+0100
TZNAME:CET
DTSTART:20241027T010000
END:STANDARD
BEGIN:DAYLIGHT
TZOFFSETFROM:+0100
TZOFFSETTO:+0200
TZNAME:CEST
DTSTART:20250330T010000
END:DAYLIGHT
BEGIN:STANDARD
TZOFFSETFROM:+0200
TZOFFSETTO:+0100
TZNAME:CET
DTSTART:20251026T010000
END:STANDARD
END:VTIMEZONE
BEGIN:VEVENT
DTSTART;TZID=Europe/Paris:20240127T183000
DTEND;TZID=Europe/Paris:20240127T200000
DTSTAMP:20260420T195901
CREATED:20240122T155729Z
LAST-MODIFIED:20240122T172948Z
UID:3730-1706380200-1706385600@tillac.fr
SUMMARY:Convocation à l'Assemblée Générale 2024 de l'ACTST
DESCRIPTION:L’assemblée générale de l’Association Culturelle Touristique Sportive Tillacaise se tiendra le samedi 27 janvier 2024 à 18h30 à la salle des fêtes de Tillac. \nAu terme de la réunion sera servi un pot de l’amitié. Merci de confirmer votre présence\, pour une meilleure organisation. \nOrdre du jour: \n\nPrésentation du rapport d’activité\nRésultat 2023\nRemerciements\nDémission de la Présidente\nRenouvellement du bureau (les candidats sont invités à se manifester dès à présent)\nProjets 2024\n\n  \nCi-dessous la convocation officielle transmise par courrier :
URL:https://tillac.fr/event/convocation-ag-2024-association-actst/
LOCATION:Salle des fêtes\, TILLAC\, 32170\, France
CATEGORIES:Association Culturelle Touristique et Sportive
ATTACH;FMTTYPE=image/jpeg:https://tillac.fr/wp-content/uploads/2019/03/assemblee_generale.jpg
END:VEVENT
END:VCALENDAR