BEGIN:VCALENDAR
VERSION:2.0
PRODID:-//Site officiel de la commune de Tillac (32) Gers - ECPv6.15.20//NONSGML v1.0//EN
CALSCALE:GREGORIAN
METHOD:PUBLISH
X-WR-CALNAME:Site officiel de la commune de Tillac (32) Gers
X-ORIGINAL-URL:https://tillac.fr
X-WR-CALDESC:Évènements pour Site officiel de la commune de Tillac (32) Gers
REFRESH-INTERVAL;VALUE=DURATION:PT1H
X-Robots-Tag:noindex
X-PUBLISHED-TTL:PT1H
BEGIN:VTIMEZONE
TZID:Europe/Paris
BEGIN:DAYLIGHT
TZOFFSETFROM:+0100
TZOFFSETTO:+0200
TZNAME:CEST
DTSTART:20190331T010000
END:DAYLIGHT
BEGIN:STANDARD
TZOFFSETFROM:+0200
TZOFFSETTO:+0100
TZNAME:CET
DTSTART:20191027T010000
END:STANDARD
BEGIN:DAYLIGHT
TZOFFSETFROM:+0100
TZOFFSETTO:+0200
TZNAME:CEST
DTSTART:20200329T010000
END:DAYLIGHT
BEGIN:STANDARD
TZOFFSETFROM:+0200
TZOFFSETTO:+0100
TZNAME:CET
DTSTART:20201025T010000
END:STANDARD
BEGIN:DAYLIGHT
TZOFFSETFROM:+0100
TZOFFSETTO:+0200
TZNAME:CEST
DTSTART:20210328T010000
END:DAYLIGHT
BEGIN:STANDARD
TZOFFSETFROM:+0200
TZOFFSETTO:+0100
TZNAME:CET
DTSTART:20211031T010000
END:STANDARD
END:VTIMEZONE
BEGIN:VEVENT
DTSTART;TZID=Europe/Paris:20200315T080000
DTEND;TZID=Europe/Paris:20200315T180000
DTSTAMP:20260421T070522
CREATED:20200305T224042Z
LAST-MODIFIED:20200305T225142Z
UID:1609-1584259200-1584295200@tillac.fr
SUMMARY:Municipales 2020
DESCRIPTION:Les élections municipales se dérouleront le dimanche 15 mars 2020 pour le premier tour. Le second tour des élections aura lieu le dimanche 22 mars 2020. \n\nLe jour du scrutin\, le bureau de vote de Tillac ouvrira à 8 heures. Il fermera à 18 heures \nPour voter\, il faudra se présenter à la mairie de Tillac\, muni de votre carte d’électeurs et d’une pièce d’identité. \n 
URL:https://tillac.fr/event/municipales-2020/
LOCATION:Mairie de Tillac\, Mairie\, TILLAC\, 32170\, France
ATTACH;FMTTYPE=image/jpeg:https://tillac.fr/wp-content/uploads/2020/03/2019-_-elections.jpg
END:VEVENT
END:VCALENDAR